BEGIN:VCALENDAR
VERSION:2.0
PRODID:-//iFTI LMS - ECPv6.15.20//NONSGML v1.0//EN
CALSCALE:GREGORIAN
METHOD:PUBLISH
X-WR-CALNAME:iFTI LMS
X-ORIGINAL-URL:https://iftilms.org
X-WR-CALDESC:Events for iFTI LMS
REFRESH-INTERVAL;VALUE=DURATION:PT1H
X-Robots-Tag:noindex
X-PUBLISHED-TTL:PT1H
BEGIN:VTIMEZONE
TZID:America/New_York
BEGIN:DAYLIGHT
TZOFFSETFROM:-0500
TZOFFSETTO:-0400
TZNAME:EDT
DTSTART:20240310T070000
END:DAYLIGHT
BEGIN:STANDARD
TZOFFSETFROM:-0400
TZOFFSETTO:-0500
TZNAME:EST
DTSTART:20241103T060000
END:STANDARD
BEGIN:DAYLIGHT
TZOFFSETFROM:-0500
TZOFFSETTO:-0400
TZNAME:EDT
DTSTART:20250309T070000
END:DAYLIGHT
BEGIN:STANDARD
TZOFFSETFROM:-0400
TZOFFSETTO:-0500
TZNAME:EST
DTSTART:20251102T060000
END:STANDARD
BEGIN:DAYLIGHT
TZOFFSETFROM:-0500
TZOFFSETTO:-0400
TZNAME:EDT
DTSTART:20260308T070000
END:DAYLIGHT
BEGIN:STANDARD
TZOFFSETFROM:-0400
TZOFFSETTO:-0500
TZNAME:EST
DTSTART:20261101T060000
END:STANDARD
END:VTIMEZONE
BEGIN:VEVENT
DTSTART;TZID=America/New_York:20250224T080000
DTEND;TZID=America/New_York:20250228T170000
DTSTAMP:20260425T073123
CREATED:20241125T175657Z
LAST-MODIFIED:20250306T185940Z
UID:3926-1740384000-1740762000@iftilms.org
SUMMARY:FTI 1000 Introduction to Teaching Techniques 02242025
DESCRIPTION:For more information about the course\, click the Class Syllabus. Class instructor is subject to change. \nENROLL NOW: Ask your DOT to complete the DOT Request – Training Registration Form. You can fill out the Instructor/Coordinator Training Registration Form but the request will be forwarded to your DOT for approval.
URL:https://iftilms.org/event/fti-1000-introduction-to-teaching-techniques-02242025/
CATEGORIES:Completed
END:VEVENT
BEGIN:VEVENT
DTSTART;TZID=America/New_York:20250225T080000
DTEND;TZID=America/New_York:20250225T170000
DTSTAMP:20260425T073123
CREATED:20241125T191413Z
LAST-MODIFIED:20250220T212359Z
UID:3937-1740470400-1740502800@iftilms.org
SUMMARY:FTI 1145 PCB Awareness TTT 02252025 CANCELLED
DESCRIPTION:For more information about the course\, click the Class Syllabus. Class instructor is subject to change. \nENROLL NOW: Ask your DoT to complete the DOT Request – Training Registration Form. You can fill out the Instructor/Coordinator Training Registration Form but the request will be forwarded to your DOT for approval.
URL:https://iftilms.org/event/fti-1145-pcb-awareness-ttt-02252025/
CATEGORIES:Cancelled
END:VEVENT
BEGIN:VEVENT
DTSTART;TZID=America/New_York:20250225T080000
DTEND;TZID=America/New_York:20250228T170000
DTSTAMP:20260425T073123
CREATED:20250131T192714Z
LAST-MODIFIED:20250306T185950Z
UID:4042-1740470400-1740762000@iftilms.org
SUMMARY:FTI 4107 CFI Residential Stair and Carpet Restoration 02252025
DESCRIPTION:ENROLL NOW: Ask your DoT to complete the DOT Request – Training Registration Form. You can fill out the Instructor/Coordinator Training Registration Form but the request will be forwarded to your DOT for approval.
URL:https://iftilms.org/event/fti-4107-cfi-residential-stair-and-carpet-restoration-02252025/
CATEGORIES:Completed
END:VEVENT
BEGIN:VEVENT
DTSTART;TZID=America/New_York:20250226T080000
DTEND;TZID=America/New_York:20250226T170000
DTSTAMP:20260425T073123
CREATED:20241125T191649Z
LAST-MODIFIED:20250220T212036Z
UID:3939-1740556800-1740589200@iftilms.org
SUMMARY:FTI 1108 Stair and Ladder Safety 02262025 CANCELLED
DESCRIPTION:ENROLL NOW: Ask your DoT to complete the DOT Request – Training Registration Form. You can fill out the Instructor/Coordinator Training Registration Form but the request will be forwarded to your DOT for approval.
URL:https://iftilms.org/event/fti-1108-stair-and-ladder-safety-02262025/
CATEGORIES:Cancelled
END:VEVENT
END:VCALENDAR