BEGIN:VCALENDAR
VERSION:2.0
PRODID:-//iFTI LMS - ECPv6.15.20//NONSGML v1.0//EN
CALSCALE:GREGORIAN
METHOD:PUBLISH
X-ORIGINAL-URL:https://iftilms.org
X-WR-CALDESC:Events for iFTI LMS
REFRESH-INTERVAL;VALUE=DURATION:PT1H
X-Robots-Tag:noindex
X-PUBLISHED-TTL:PT1H
BEGIN:VTIMEZONE
TZID:America/New_York
BEGIN:DAYLIGHT
TZOFFSETFROM:-0500
TZOFFSETTO:-0400
TZNAME:EDT
DTSTART:20190310T070000
END:DAYLIGHT
BEGIN:STANDARD
TZOFFSETFROM:-0400
TZOFFSETTO:-0500
TZNAME:EST
DTSTART:20191103T060000
END:STANDARD
BEGIN:DAYLIGHT
TZOFFSETFROM:-0500
TZOFFSETTO:-0400
TZNAME:EDT
DTSTART:20200308T070000
END:DAYLIGHT
BEGIN:STANDARD
TZOFFSETFROM:-0400
TZOFFSETTO:-0500
TZNAME:EST
DTSTART:20201101T060000
END:STANDARD
BEGIN:DAYLIGHT
TZOFFSETFROM:-0500
TZOFFSETTO:-0400
TZNAME:EDT
DTSTART:20210314T070000
END:DAYLIGHT
BEGIN:STANDARD
TZOFFSETFROM:-0400
TZOFFSETTO:-0500
TZNAME:EST
DTSTART:20211107T060000
END:STANDARD
END:VTIMEZONE
BEGIN:VEVENT
DTSTART;VALUE=DATE:20200128
DTEND;VALUE=DATE:20200130
DTSTAMP:20260419T193547
CREATED:20190925T141446Z
LAST-MODIFIED:20200128T182848Z
UID:1119-1580169600-1580342399@iftilms.org
SUMMARY:FTI 1105C EPA Lead RRP - Initial EPA Accredited Class  012820
DESCRIPTION:16 hours \nThis 2 day (16‐hour) course is a model class designed to enable the Instructor/s to train Lead Workers to perform his/her job with the knowledge and skills to work safely and productively while adhering to all state\, federal and local regulations on lead and lead abatement practices. Students in this course will discuss their roles and responsibilities as Lead Workers\, safe work practices\, PPE\, health effects of lead exposure and other hazards as well as hands‐on lead hazard control activities such as recognizing lead‐based paint hazards\, interior and exterior dust abatement\, establishing containment areas\, setting up and using decontamination processes\, waste disposal and clean‐up and inspection procedures. This class fulfills the US EPA’s 16‐hour lead specific training requirement (Certification Period: 36 months). \nPrerequisite: None \nENROLL NOW: Ask your DoT to complete the DOT Request – Training Registration Form. You can fill out the Instructor/Coordinator Training Registration Form but the request will be forwarded to your DOT for approval.
URL:https://iftilms.org/event/fti-1117c-lead-abatement-worker-01272020/
LOCATION:International Finishing Trades Institute Training Center\, 7230 Parkway Drive\, Hanover\, MD\, 21076\, United States
CATEGORIES:In Progress
END:VEVENT
END:VCALENDAR