BEGIN:VCALENDAR
VERSION:2.0
PRODID:-//iFTI LMS - ECPv6.15.20//NONSGML v1.0//EN
CALSCALE:GREGORIAN
METHOD:PUBLISH
X-WR-CALNAME:iFTI LMS
X-ORIGINAL-URL:https://iftilms.org
X-WR-CALDESC:Events for iFTI LMS
REFRESH-INTERVAL;VALUE=DURATION:PT1H
X-Robots-Tag:noindex
X-PUBLISHED-TTL:PT1H
BEGIN:VTIMEZONE
TZID:America/New_York
BEGIN:DAYLIGHT
TZOFFSETFROM:-0500
TZOFFSETTO:-0400
TZNAME:EDT
DTSTART:20240310T070000
END:DAYLIGHT
BEGIN:STANDARD
TZOFFSETFROM:-0400
TZOFFSETTO:-0500
TZNAME:EST
DTSTART:20241103T060000
END:STANDARD
BEGIN:DAYLIGHT
TZOFFSETFROM:-0500
TZOFFSETTO:-0400
TZNAME:EDT
DTSTART:20250309T070000
END:DAYLIGHT
BEGIN:STANDARD
TZOFFSETFROM:-0400
TZOFFSETTO:-0500
TZNAME:EST
DTSTART:20251102T060000
END:STANDARD
BEGIN:DAYLIGHT
TZOFFSETFROM:-0500
TZOFFSETTO:-0400
TZNAME:EDT
DTSTART:20260308T070000
END:DAYLIGHT
BEGIN:STANDARD
TZOFFSETFROM:-0400
TZOFFSETTO:-0500
TZNAME:EST
DTSTART:20261101T060000
END:STANDARD
END:VTIMEZONE
BEGIN:VEVENT
DTSTART;TZID=America/New_York:20251117T080000
DTEND;TZID=America/New_York:20251119T170000
DTSTAMP:20260425T120808
CREATED:20241125T194303Z
LAST-MODIFIED:20260120T175503Z
UID:3953-1763366400-1763571600@iftilms.org
SUMMARY:FTI 1024 Computing Applications 2 11172025
DESCRIPTION:For more information about the course\, click the Class Syllabus. Class instructor is subject to change. \nENROLL NOW: Ask your DoT to complete the DOT Request – Training Registration Form.
URL:https://iftilms.org/event/fti-1024-computing-applications-2-11172025/
CATEGORIES:Completed
END:VEVENT
BEGIN:VEVENT
DTSTART;TZID=America/New_York:20251117T080000
DTEND;TZID=America/New_York:20251120T170000
DTSTAMP:20260425T120808
CREATED:20250714T162147Z
LAST-MODIFIED:20260120T175614Z
UID:4193-1763366400-1763658000@iftilms.org
SUMMARY:FTI 2802 AMPP C3 C5 and 8-Hour Lead Worker TTT 11172025
DESCRIPTION:ENROLL NOW: Ask your DoT to complete the DOT Request – Training Registration Form.
URL:https://iftilms.org/event/fti-2802-ampp-c3-c5-and-8-hour-lead-worker-ttt-11172025/
CATEGORIES:Completed
END:VEVENT
END:VCALENDAR