BEGIN:VCALENDAR
VERSION:2.0
PRODID:-//iFTI LMS - ECPv6.15.20//NONSGML v1.0//EN
CALSCALE:GREGORIAN
METHOD:PUBLISH
X-WR-CALNAME:iFTI LMS
X-ORIGINAL-URL:https://iftilms.org
X-WR-CALDESC:Events for iFTI LMS
REFRESH-INTERVAL;VALUE=DURATION:PT1H
X-Robots-Tag:noindex
X-PUBLISHED-TTL:PT1H
BEGIN:VTIMEZONE
TZID:America/New_York
BEGIN:DAYLIGHT
TZOFFSETFROM:-0500
TZOFFSETTO:-0400
TZNAME:EDT
DTSTART:20220313T070000
END:DAYLIGHT
BEGIN:STANDARD
TZOFFSETFROM:-0400
TZOFFSETTO:-0500
TZNAME:EST
DTSTART:20221106T060000
END:STANDARD
BEGIN:DAYLIGHT
TZOFFSETFROM:-0500
TZOFFSETTO:-0400
TZNAME:EDT
DTSTART:20230312T070000
END:DAYLIGHT
BEGIN:STANDARD
TZOFFSETFROM:-0400
TZOFFSETTO:-0500
TZNAME:EST
DTSTART:20231105T060000
END:STANDARD
BEGIN:DAYLIGHT
TZOFFSETFROM:-0500
TZOFFSETTO:-0400
TZNAME:EDT
DTSTART:20240310T070000
END:DAYLIGHT
BEGIN:STANDARD
TZOFFSETFROM:-0400
TZOFFSETTO:-0500
TZNAME:EST
DTSTART:20241103T060000
END:STANDARD
END:VTIMEZONE
BEGIN:VEVENT
DTSTART;TZID=America/New_York:20231112T080000
DTEND;TZID=America/New_York:20231117T170000
DTSTAMP:20260425T235901
CREATED:20230830T203456Z
LAST-MODIFIED:20231220T154432Z
UID:3346-1699776000-1700240400@iftilms.org
SUMMARY:FTI 1226 Advanced Service Training 102 Cohort A 11122023
DESCRIPTION:40 Hours \nThe Advanced Service Training 101 and 102 are comprehensive training classes that take you beyond the normal functions of a local servicing representative. This is a two-part class with a three to four-month intermission. This course is designed to make the IUPAT Service Representative the best\, most knowledgeable grassroots activist who will help determine the strategic direction of their District Council. \nPrerequisite: Leadership Series Completion or a minimum of 4 Core Leadership Series Courses AND completion of Advanced Service Training 101 \nENROLL NOW: Ask your DOT to complete the DOT Request – Training Registration Form. You can fill out the Instructor/Coordinator Training Registration Form but the request will be forwarded to your DOT for approval.
URL:https://iftilms.org/event/fti-1226-advanced-service-training-102-10222023/
CATEGORIES:Completed,By Invitation
END:VEVENT
BEGIN:VEVENT
DTSTART;TZID=America/New_York:20231114T080000
DTEND;TZID=America/New_York:20231116T170000
DTSTAMP:20260425T235901
CREATED:20230112T210809Z
LAST-MODIFIED:20231220T154437Z
UID:3033-1699948800-1700154000@iftilms.org
SUMMARY:FTI 1119C OSHA 502 11142023
DESCRIPTION:24 Hours \nThis course provides an update for currently authorized OSHA Construction Industry Outreach Trainers on topics such as OSHA construction industry standards\, policies and regulations. Construction industry outreach trainers are required to attend this course once every four years to maintain trainer status (Certification Period: 48 months). \nPrerequisite: FTI 1114C OSHA 510\, FTI 1109C OSHA 500\, or previous FTI 1119C OSHA 502 \nENROLL NOW: Ask your DOT to complete the DOT Request – Training Registration Form. You can fill out the Instructor/Coordinator Training Registration Form but the request will be forwarded to your DOT for approval.
URL:https://iftilms.org/event/fti-1119c-osha-500-11142023/
CATEGORIES:Completed
END:VEVENT
BEGIN:VEVENT
DTSTART;TZID=America/New_York:20231114T080000
DTEND;TZID=America/New_York:20231117T170000
DTSTAMP:20260425T235901
CREATED:20230112T210913Z
LAST-MODIFIED:20231220T154443Z
UID:3035-1699948800-1700240400@iftilms.org
SUMMARY:FTI 1120C USACE OVERTON Fall Protection 11142023
DESCRIPTION:32 Hours \nUpon successful completion of the classroom training the participant will be able to pass a written examination demonstrating comprehension of the basic selection\, inspection and safe use of fall protections systems and materials when in accordance with Federal OSHA Laws and United States Army Corps of Engineers (USACE) EM385. They will have been trained\, tested and understand the following: \n\nRecognizing potential risks and worksite hazards for workers using fall protection and understands the appropriate actions to take.\nUnderstand and be able to demonstrate the federal laws and basic safety rules when utilizing fall protection systems.\nUnderstand the proper and safe use of the fall protection systems covered in this course.\nUnderstand the selection\, inspection\, ratings\, rejection criteria and proper safe use fall protection systems when using Aerial Work Platforms\, Mobile\, Overhead and/or Tower Cranes\, of Forklift trucks to hoist personnel.\n\n(Certification Period: Permanent) \nPrerequisite: None \nENROLL NOW: Ask your DOT to complete the DOT Request – Training Registration Form. You can fill out the Instructor/Coordinator Training Registration Form but the request will be forwarded to your DOT for approval.
URL:https://iftilms.org/event/fti-1120c-usace-overton-fall-protection-11-14-2023/
LOCATION:International Finishing Trades Institute Training Center\, 7230 Parkway Drive\, Hanover\, MD\, 21076\, United States
CATEGORIES:Completed
END:VEVENT
END:VCALENDAR