BEGIN:VCALENDAR
VERSION:2.0
PRODID:-//iFTI LMS - ECPv6.15.20//NONSGML v1.0//EN
CALSCALE:GREGORIAN
METHOD:PUBLISH
X-WR-CALNAME:iFTI LMS
X-ORIGINAL-URL:https://iftilms.org
X-WR-CALDESC:Events for iFTI LMS
REFRESH-INTERVAL;VALUE=DURATION:PT1H
X-Robots-Tag:noindex
X-PUBLISHED-TTL:PT1H
BEGIN:VTIMEZONE
TZID:America/New_York
BEGIN:DAYLIGHT
TZOFFSETFROM:-0500
TZOFFSETTO:-0400
TZNAME:EDT
DTSTART:20180311T070000
END:DAYLIGHT
BEGIN:STANDARD
TZOFFSETFROM:-0400
TZOFFSETTO:-0500
TZNAME:EST
DTSTART:20181104T060000
END:STANDARD
BEGIN:DAYLIGHT
TZOFFSETFROM:-0500
TZOFFSETTO:-0400
TZNAME:EDT
DTSTART:20190310T070000
END:DAYLIGHT
BEGIN:STANDARD
TZOFFSETFROM:-0400
TZOFFSETTO:-0500
TZNAME:EST
DTSTART:20191103T060000
END:STANDARD
BEGIN:DAYLIGHT
TZOFFSETFROM:-0500
TZOFFSETTO:-0400
TZNAME:EDT
DTSTART:20200308T070000
END:DAYLIGHT
BEGIN:STANDARD
TZOFFSETFROM:-0400
TZOFFSETTO:-0500
TZNAME:EST
DTSTART:20201101T060000
END:STANDARD
END:VTIMEZONE
BEGIN:VEVENT
DTSTART;VALUE=DATE:20191202
DTEND;VALUE=DATE:20191207
DTSTAMP:20260419T080802
CREATED:20190924T144355Z
LAST-MODIFIED:20191010T191529Z
UID:1098-1575244800-1575676799@iftilms.org
SUMMARY:FTI 1109C OSHA 500 12022019
DESCRIPTION:40 Hours \n\n\n\nThis course is designed for members interested in teaching the 10- and 30-hour construction safety and health outreach program. Special emphasis is placed on those topics that are required in the 10- and 30-hour programs as well as on those that are the most hazardous\, using OSHA standards as a guide. Course participants are briefed on effective instructional approaches and the effective use of visual aids and handouts. This course allows the student to become a trainer and to conduct both a 10- and 30-hour construction safety and health course and to issue cards to participants verifying course completion. NOTE: Students in OSHA 500 who wish to participate as authorized trainers in the Outreach Program must successfully pass a written exam at the end of the course. Outreach trainers are required to attend Course 502 at least once every four years to maintain their trainer status (Certification Period: 48 months). \nPrerequisite: FTI 1109C OSHA 500 or previous FTI 1119C OSHA 502 \nENROLL NOW: Ask your DoT to complete the DOT Request – Training Registration Form. You can fill out the Instructor/Coordinator Training Registration Form but the request will be forwarded to your DOT for approval.
URL:https://iftilms.org/event/fti-1109c-osha-500-3/
LOCATION:International Finishing Trades Institute Training Center\, 7230 Parkway Drive\, Hanover\, MD\, 21076\, United States
CATEGORIES:Open
END:VEVENT
BEGIN:VEVENT
DTSTART;VALUE=DATE:20191203
DTEND;VALUE=DATE:20191206
DTSTAMP:20260419T080802
CREATED:20191108T190057Z
LAST-MODIFIED:20200416T154113Z
UID:1312-1575331200-1575590399@iftilms.org
SUMMARY:FTI 9999C FTI Master Instructor Capstone 12032019
DESCRIPTION:24hrs \nThe iFTI Master Instructor Capstone Project is the final course an instructor will take prior to being awarded a iFTI Master Instructor Certificate of Completion. \nENROLL NOW: Ask your DOT to complete the DOT Request – Training Registration Form. You can fill out the Instructor/Coordinator Training Registration Form but the request will be forwarded to your DOT for approval.
URL:https://iftilms.org/event/fti-9999c-fti-master-instructor-capstone-3/
CATEGORIES:Completed
END:VEVENT
END:VCALENDAR